BEGIN:VCALENDAR
VERSION:2.0
PRODID:-//Weavery - ECPv4.2.5//NONSGML v1.0//EN
CALSCALE:GREGORIAN
METHOD:PUBLISH
X-WR-CALNAME:Weavery
X-ORIGINAL-URL:http://weavery.com.au
X-WR-CALDESC:Events for Weavery
BEGIN:VEVENT
DTSTART;TZID=Australia/Brisbane:20190831T103000
DTEND;TZID=Australia/Brisbane:20190831T153000
DTSTAMP:20210228T173005
CREATED:20190710T040238
LAST-MODIFIED:20190710T040238
UID:1316-1567247400-1567265400@weavery.com.au
SUMMARY:Brisbane weaving circle - August
DESCRIPTION:$100 including materials\nBring lunch to share\n\nLearn to weave - in a ceremony-style basket weaving circle where each member of the group is honoured for their own special contribution to the group in a gentle\, nurturing manner. It is an open-hearted\, fun and growthful experience for the beginner and experienced weaver alike\, a creative space full of shared wisdom and joy.\n\nUse plants that grow in your vicinity\, learn the characteristics of the fibre so as to identify and play with other fibres that suit the technique\, as you walk your path onwards.\n\n
URL:http://weavery.com.au/event/brisbane-weaving-circle-august/
LOCATION:Mt Coot-Tha\, Brisbane\, Qld\, Australia
CATEGORIES:upcoming events,workshops
ORGANIZER;CN="Rene%20Bahloo":MAILTO:tribahloo@hotmail.com
END:VEVENT
END:VCALENDAR