BEGIN:VCALENDAR
VERSION:2.0
PRODID:-//Weavery - ECPv4.2.5//NONSGML v1.0//EN
CALSCALE:GREGORIAN
METHOD:PUBLISH
X-WR-CALNAME:Weavery
X-ORIGINAL-URL:http://weavery.com.au
X-WR-CALDESC:Events for Weavery
BEGIN:VEVENT
DTSTART;TZID=Australia/Brisbane:20160908T093000
DTEND;TZID=Australia/Brisbane:20160908T143000
DTSTAMP:20210228T174156
CREATED:20160730T084941
LAST-MODIFIED:20160730T085010
UID:992-1473327000-1473345000@weavery.com.au
SUMMARY:Karrimarnbun Kunngobarn at Clontarf and BBQ lunch
DESCRIPTION: \nBook for this amazing opportunity using this link.\n
URL:http://weavery.com.au/event/karrimarnbun-kunngobarn-at-clontarf-and-bbq-lunch/
LOCATION:Queensland\, Australia
CATEGORIES:upcoming events,workshops
ORGANIZER;CN="Rene%20Bahloo":MAILTO:tribahloo@hotmail.com
END:VEVENT
END:VCALENDAR