BEGIN:VCALENDAR
VERSION:2.0
PRODID:-//Weavery - ECPv6.15.20//NONSGML v1.0//EN
CALSCALE:GREGORIAN
METHOD:PUBLISH
X-WR-CALNAME:Weavery
X-ORIGINAL-URL:https://weavery.com.au
X-WR-CALDESC:Events for Weavery
REFRESH-INTERVAL;VALUE=DURATION:PT1H
X-Robots-Tag:noindex
X-PUBLISHED-TTL:PT1H
BEGIN:VTIMEZONE
TZID:Australia/Brisbane
BEGIN:STANDARD
TZOFFSETFROM:+1000
TZOFFSETTO:+1000
TZNAME:AEST
DTSTART:20170101T000000
END:STANDARD
END:VTIMEZONE
BEGIN:VEVENT
DTSTART;TZID=Australia/Brisbane:20180923T100000
DTEND;TZID=Australia/Brisbane:20180923T153000
DTSTAMP:20260425T031431
CREATED:20180902T122533Z
LAST-MODIFIED:20180903T043938Z
UID:1179-1537696800-1537716600@weavery.com.au
SUMMARY:Sunshine Coast loop weave workshop
DESCRIPTION:Book here \nUse fibre from a variety of plants to explore loop weaving techniques. Weave a basket or sculptural piece. You will take home is so much more than what you might expect – connection\, calm\, expansion\, groundedness and new friends! Experience the healing\, nurturing and centering forces that emerge as you weave with awareness\, intention and mindfulness. This is so much more than a weaving session\, it is therapeutic\, growthful and can be very enlightening\, bringing benefit to many areas of your life. Hear stories of connection to Indigenous Australia\, and their weaving traditions\, share stories of your own\, of life\, challenges\, triumphs and beliefs. Rene will guide this journey in her own unique way\, and share snippets of her life philosophy as seen through the lens of a weaver. You will never look at life\, or your natural environment in the same way again! Beginners welcome. Please bring lunch to share and your own beverage. \n$100 incl materials \nFree coffee machine coffee and tea. \nShare this:Share\n				Share on Pinterest (Opens in new window)\n				Pinterest\n			\n				Share on Facebook (Opens in new window)\n				Facebook\n			\n				Share on X (Opens in new window)\n				X\n			\n				Email a link to a friend (Opens in new window)\n				Email\n			\n				Print (Opens in new window)\n				Print
URL:https://weavery.com.au/event/sunshine-coast-loop-weave-workshop/
LOCATION:Cooran\, 377 Sankeys rd\, Cooran\, Qld\, Australia
ORGANIZER;CN="Rene Bahloo":MAILTO:tribahloo@hotmail.com
END:VEVENT
END:VCALENDAR