BEGIN:VCALENDAR
VERSION:2.0
PRODID:-//Weavery - ECPv6.15.20//NONSGML v1.0//EN
CALSCALE:GREGORIAN
METHOD:PUBLISH
X-WR-CALNAME:Weavery
X-ORIGINAL-URL:https://weavery.com.au
X-WR-CALDESC:Events for Weavery
REFRESH-INTERVAL;VALUE=DURATION:PT1H
X-Robots-Tag:noindex
X-PUBLISHED-TTL:PT1H
BEGIN:VTIMEZONE
TZID:Australia/Brisbane
BEGIN:STANDARD
TZOFFSETFROM:+1000
TZOFFSETTO:+1000
TZNAME:AEST
DTSTART:20170101T000000
END:STANDARD
END:VTIMEZONE
BEGIN:VEVENT
DTSTART;TZID=Australia/Brisbane:20180210T100000
DTEND;TZID=Australia/Brisbane:20180210T153000
DTSTAMP:20260425T002850
CREATED:20180109T170957Z
LAST-MODIFIED:20180109T170957Z
UID:1078-1518256800-1518276600@weavery.com.au
SUMMARY:Sunshine Coast weaving healing workshop - basketmaking and mindfulness
DESCRIPTION:Use fibre from Alexandra and Piccabeen Palms to explore possibilities in weaving techniques. Weave a basket or sculptural piece. You will take home is so much more! than what you might expect – connection\, calm\, groundedness and new friends! Experience the healing\, nurturing and centering forces that emerge as you weave with awareness\, intention and mindfulness. This is so much more than a weaving session\, it is therapeutic\, growthful and can be very enlightening\, bringing benefit to many areas of your life. Rene will guide this journey  using plants that are all around you – you will never look at your natural environment in the same way again! Beginners welcome. Please bring lunch to share and your own beverage. \nShare this:Share\n				Share on Pinterest (Opens in new window)\n				Pinterest\n			\n				Share on Facebook (Opens in new window)\n				Facebook\n			\n				Share on X (Opens in new window)\n				X\n			\n				Email a link to a friend (Opens in new window)\n				Email\n			\n				Print (Opens in new window)\n				Print
URL:https://weavery.com.au/event/sunshine-coast-weaving-healing-workshop-basketmaking-and-mindfulness/
LOCATION:Cooran\, 377 Sankeys rd\, Cooran\, Qld\, Australia
CATEGORIES:upcoming events,workshops
ORGANIZER;CN="Rene Bahloo":MAILTO:tribahloo@hotmail.com
END:VEVENT
END:VCALENDAR