BEGIN:VCALENDAR
VERSION:2.0
PRODID:-//Weavery - ECPv6.15.20//NONSGML v1.0//EN
CALSCALE:GREGORIAN
METHOD:PUBLISH
X-WR-CALNAME:Weavery
X-ORIGINAL-URL:https://weavery.com.au
X-WR-CALDESC:Events for Weavery
REFRESH-INTERVAL;VALUE=DURATION:PT1H
X-Robots-Tag:noindex
X-PUBLISHED-TTL:PT1H
BEGIN:VTIMEZONE
TZID:Australia/Brisbane
BEGIN:STANDARD
TZOFFSETFROM:+1000
TZOFFSETTO:+1000
TZNAME:AEST
DTSTART:20150101T000000
END:STANDARD
END:VTIMEZONE
BEGIN:VEVENT
DTSTART;TZID=Australia/Brisbane:20160527T103000
DTEND;TZID=Australia/Brisbane:20160527T133000
DTSTAMP:20260425T003105
CREATED:20160516T222112Z
LAST-MODIFIED:20160516T222112Z
UID:916-1464345000-1464355800@weavery.com.au
SUMMARY:Weave with Priscilla Badari (cousin of Christine) at Bribie Island
DESCRIPTION:Weave with Priscilla Badari (Christine Nabobbob had to remain in NT to look after her husband James)\, and Rene Bahloo of Weavery. Priscilla comes from a long line of traditional weavers – she is also a printmaker and designer. Priscilla is Christine’s cousin And also lives in Gunbalanya. \nBook on eventbrite \nShare this:Share\n				Share on Pinterest (Opens in new window)\n				Pinterest\n			\n				Share on Facebook (Opens in new window)\n				Facebook\n			\n				Share on X (Opens in new window)\n				X\n			\n				Email a link to a friend (Opens in new window)\n				Email\n			\n				Print (Opens in new window)\n				Print
URL:https://weavery.com.au/event/weave-with-priscilla-badari-cousin-of-christine-at-bribie-island/
LOCATION:Unnamed Venue\, Woorim Beach Park\, Bribie Island\, qld\, 4554\, Australia
ORGANIZER;CN="Rene Bahloo":MAILTO:weaverywork@gmail.com
END:VEVENT
END:VCALENDAR