BEGIN:VCALENDAR
VERSION:2.0
PRODID:-//Weavery - ECPv6.15.20//NONSGML v1.0//EN
CALSCALE:GREGORIAN
METHOD:PUBLISH
X-WR-CALNAME:Weavery
X-ORIGINAL-URL:https://weavery.com.au
X-WR-CALDESC:Events for Weavery
REFRESH-INTERVAL;VALUE=DURATION:PT1H
X-Robots-Tag:noindex
X-PUBLISHED-TTL:PT1H
BEGIN:VTIMEZONE
TZID:Australia/Brisbane
BEGIN:STANDARD
TZOFFSETFROM:+1000
TZOFFSETTO:+1000
TZNAME:AEST
DTSTART:20170101T000000
END:STANDARD
END:VTIMEZONE
BEGIN:VEVENT
DTSTART;TZID=Australia/Brisbane:20180511T170000
DTEND;TZID=Australia/Brisbane:20180513T160000
DTSTAMP:20260425T003034
CREATED:20180110T075125Z
LAST-MODIFIED:20180110T075125Z
UID:1082-1526058000-1526227200@weavery.com.au
SUMMARY:Weaving and mindfulness retreat Bribie Island
DESCRIPTION:Spend a weekend inmmersed in the practice of basketry – take time out to share\, connect\, open\, expand\, learn\, express\, reflect – all the things we do in a weaving circle\, that we might not take time to do for ourselves at home. \nDiscover the profound healing that occurs as we weave our hearts inside to out\, in a safe and nurturing space\, in community\, together. \nPractice mindfulness\, take walks on the beach\, learn fibre knowledge and how to apply it in your life. \nConnect to nature\, to yourself. \nThis retreat will be fun and engaing\, but also allow time for self reflection and space to just ‘be’. \nIt is fully catered (vegetarian) and includes in-house accommodation. Materials are included\, no previous experience necessary. You dont even need to think you are creative! \nSpace is limited so get in now – treat yourself. Grow yourself. Honour yourself. \nSee you there… \nShare this:Share\n				Share on Pinterest (Opens in new window)\n				Pinterest\n			\n				Share on Facebook (Opens in new window)\n				Facebook\n			\n				Share on X (Opens in new window)\n				X\n			\n				Email a link to a friend (Opens in new window)\n				Email\n			\n				Print (Opens in new window)\n				Print
URL:https://weavery.com.au/event/weaving-and-mindfulness-retreat-bribie-island/
LOCATION:Woorim beach\, Bribie Island\, 31 North street\, Australia
CATEGORIES:upcoming events,workshops
END:VEVENT
END:VCALENDAR