BEGIN:VCALENDAR
VERSION:2.0
PRODID:-//Weavery - ECPv6.15.20//NONSGML v1.0//EN
CALSCALE:GREGORIAN
METHOD:PUBLISH
X-WR-CALNAME:Weavery
X-ORIGINAL-URL:https://weavery.com.au
X-WR-CALDESC:Events for Weavery
REFRESH-INTERVAL;VALUE=DURATION:PT1H
X-Robots-Tag:noindex
X-PUBLISHED-TTL:PT1H
BEGIN:VTIMEZONE
TZID:Australia/Brisbane
BEGIN:STANDARD
TZOFFSETFROM:+1000
TZOFFSETTO:+1000
TZNAME:AEST
DTSTART:20170101T000000
END:STANDARD
END:VTIMEZONE
BEGIN:VEVENT
DTSTART;TZID=Australia/Brisbane:20180201T080000
DTEND;TZID=Australia/Brisbane:20180708T170000
DTSTAMP:20260425T002814
CREATED:20180108T182354Z
LAST-MODIFIED:20180404T194312Z
UID:1072-1517472000-1531069200@weavery.com.au
SUMMARY:"Weaving our Future" basketry workshop series
DESCRIPTION:FlyerWOF \nThis is a special series of workshops to connect indigenous and non-indigenous women through the practice of basket weaving\, on the Sunshine Coast\, Australia. \nParticipants attending workshops will learn basket weaving techniques that are practical and useful\, with fibres from plants that grow locally. These skills will be used to create harvest baskets based on traditional and/or contemporary forms\, with an emphasis on creativity and innovation of forms to suit the needs of modern society. In ‘Weaving our Future’\, community members will learn where\, how and when to harvest a selection of fibres sustainably and how to store and prepare these fibres for use. Yarning is an integral part of this process\, where every participant will be given a voice and a nurturing space to share\, where all are honoured for their individuality and their part in the dynamics of the group. Indigenous and non- indigenous knowledge is given a place to thrive\, encouraging new ideas to emerge. Introducing traditional knowledge holders from Arnhem Land (Kunwinjku women) will add to this experience for deeper cultural connection and knowledge sharing (Karrimarnbun). \nThis knowledge exchange project will explore the overlap between traditional bush food harvesting\, fibre and the baskets used to harvest food and fibre\, honouring both traditional and contemporary perspectives. Participants will create both artworks and cultural artifacts\, in an attempt to revive\, revitalise and reinvent an endangered art form. The project is stage one in a larger vision – the establishment of a local ongoing (intercultural) weaving group\, working towards cultural connection and creative exchange opportunities with remote Indigenous weavers. \nTuesdays and Thursdays from 1st February. Two date ranges with techniques working concurrently. \nDates are thus: \nTuesdays \, Thursdays: \n6 Feb           1 Feb \n13 Feb         8 Feb \n20 Feb         15 Feb \n27 Feb         22 Feb \n6 March       1 March \n13 March     8 March \n20 March 22 march – Dale Chapman \n8 May Headspace Maroochydore  10 May Deadly Espresso \nTwo more days TBA and self-help group time – also\, days are flexible according to technique (same technique\, two different days). \n$150 for the series of workshops. $25 per session if attended individually. Save over $50! \nhttps://www.eventbrite.com.au/e/weaving-our-future-basketry-workshop-series-tickets-41095210882 \nThe Regional Arts Development Fund (RADF) is a partnership between the Queensland Government and Sunshine Coast Council to support local arts and culture in regional Queensland.\nThis project is proudly supported by Sunshine Coast Council’s grants program. \n \nShare this:Share\n				Share on Pinterest (Opens in new window)\n				Pinterest\n			\n				Share on Facebook (Opens in new window)\n				Facebook\n			\n				Share on X (Opens in new window)\n				X\n			\n				Email a link to a friend (Opens in new window)\n				Email\n			\n				Print (Opens in new window)\n				Print
URL:https://weavery.com.au/event/weaving-our-future-basketry-workshop-series/
LOCATION:Sunshine Coast\, Queensland\, 4554\, Australia
CATEGORIES:Indigenous culture and weaving journeys,upcoming events,workshops
ORGANIZER;CN="Rene Bahloo":MAILTO:weaverywork@gmail.com
END:VEVENT
END:VCALENDAR