BEGIN:VCALENDAR
VERSION:2.0
PRODID:-//Weavery - ECPv6.15.20//NONSGML v1.0//EN
CALSCALE:GREGORIAN
METHOD:PUBLISH
X-WR-CALNAME:Weavery
X-ORIGINAL-URL:https://weavery.com.au
X-WR-CALDESC:Events for Weavery
REFRESH-INTERVAL;VALUE=DURATION:PT1H
X-Robots-Tag:noindex
X-PUBLISHED-TTL:PT1H
BEGIN:VTIMEZONE
TZID:Australia/Brisbane
BEGIN:STANDARD
TZOFFSETFROM:+1000
TZOFFSETTO:+1000
TZNAME:AEST
DTSTART:20170101T000000
END:STANDARD
END:VTIMEZONE
BEGIN:VEVENT
DTSTART;TZID=Australia/Brisbane:20180404T080000
DTEND;TZID=Australia/Brisbane:20180404T170000
DTSTAMP:20260425T030135
CREATED:20151114T232806Z
LAST-MODIFIED:20180404T200520Z
UID:858-1522828800-1522861200@weavery.com.au
SUMMARY:Deadly weavers basketry group in Eumundi
DESCRIPTION:Meetups are: \n\nMeetups are: Every Thursday from 10am till 2pm. At Deadly Espresso in the Pavillion markets at Eumundi.\n\n\n \n\n\nFor regular members coming to weave on their projects it’s $5 donation per week\, if you do not require instruction\, as in you are working on your own. If you need instruction\, you must purchase a do-it-yourself coil weaving kit on the day you come. That includes fibre and a needle and instructions. 😊\n\n\n \n\n\nSome materials are provided\, but also bring your own\, to contribute. Please bring scissors\, secateurs etc. as well.\n\n\n \n\n\nThese group meet-ups are weaving circles where sharing thoughts and experiences are honoured and prioritised as an opportunity for growth\, healing and community connection. A safe space for you to be who you are\, in every moment\, without judgement.\n\n\n \n\n\nAll are welcome at any stage – there is no ‘beginner’ or ‘master’\, there is only deepening in connection\, hanging out and having fun. Also\, we do not exclude anyone based on age\, race or gender – we are all equally beautiful! And kids are welcome to come with\, we call it ‘tribe’.\n\n\n \n\n\nIf you are keen to attend – please message me (Rene Bahloo) and share this invitation to spread the ripples of love out wide!\n\n\n\nhttps://www.facebook.com/groups/weavehealconnectedcollective/ \nwww.weavery.com.au \n  \nShare this:Share\n				Share on Pinterest (Opens in new window)\n				Pinterest\n			\n				Share on Facebook (Opens in new window)\n				Facebook\n			\n				Share on X (Opens in new window)\n				X\n			\n				Email a link to a friend (Opens in new window)\n				Email\n			\n				Print (Opens in new window)\n				Print
URL:https://weavery.com.au/event/weaving-thursdays-in-pomona/
CATEGORIES:workshops
END:VEVENT
END:VCALENDAR